BEGIN:VCALENDAR
VERSION:2.0
PRODID:-//Employment and Settlement Agreement Solicitors Brighton London WC2 - ECPv6.12.0//NONSGML v1.0//EN
CALSCALE:GREGORIAN
METHOD:PUBLISH
X-WR-CALNAME:Employment and Settlement Agreement Solicitors Brighton London WC2
X-ORIGINAL-URL:https://www.mulberryssolicitors.com
X-WR-CALDESC:Events for Employment and Settlement Agreement Solicitors Brighton London WC2
REFRESH-INTERVAL;VALUE=DURATION:PT1H
X-Robots-Tag:noindex
X-PUBLISHED-TTL:PT1H
BEGIN:VTIMEZONE
TZID:Europe/London
BEGIN:DAYLIGHT
TZOFFSETFROM:+0000
TZOFFSETTO:+0100
TZNAME:BST
DTSTART:20260329T010000
END:DAYLIGHT
BEGIN:STANDARD
TZOFFSETFROM:+0100
TZOFFSETTO:+0000
TZNAME:GMT
DTSTART:20261025T010000
END:STANDARD
END:VTIMEZONE
BEGIN:VEVENT
DTSTART;TZID=Europe/London:20260424T120000
DTEND;TZID=Europe/London:20260424T131500
DTSTAMP:20260422T172111
CREATED:20250226T151942Z
LAST-MODIFIED:20260312T114630Z
UID:4683-1777032000-1777036500@www.mulberryssolicitors.com
SUMMARY:Changes to Employment Law -  Employment Rights Act 2025
DESCRIPTION:This webinar aims to prepare HR and Line Management to: \n\nGet up to date with the changes which will be brought into effect over the next two years under the Employment Rights Act and the radical changes which will be implemented; and\nUnderstand what practical steps to take now to implement necessary changes.\n\nThe most notable change in the Act is the day one right to claim unfair dismissal which will necessitate a seismic change to the way employees are managed\, disciplined and dismissed from the very onset of their employment as well as how grievances are dealt with. \nThis practical\, step by step guide will ensure you are ready for the changes.
URL:https://www.mulberryssolicitors.com/event/update-on-the-employment-rights-bill-where-are-we-now/
LOCATION:Microsoft Teams
ATTACH;FMTTYPE=image/jpeg:https://www.mulberryssolicitors.com/wp-content/uploads/2022/09/home-advert_photo.jpg
ORGANIZER;CN="Mulberrys Solicitors":MAILTO:info@mulberryssolicitors.com
END:VEVENT
BEGIN:VEVENT
DTSTART;TZID=Europe/London:20260626T120000
DTEND;TZID=Europe/London:20260626T133000
DTSTAMP:20260422T172111
CREATED:20260331T151754Z
LAST-MODIFIED:20260331T160400Z
UID:5074-1782475200-1782480600@www.mulberryssolicitors.com
SUMMARY:Process\, Process\, Process - Conducting Dismissals Fairly
DESCRIPTION:From 1 January 2027 every employee will have the right to claim unfair dismissal after only 6 months’ service. \nThis means that conducting dismissals procedurally fairly will be more important than ever\, with such a short window before claims can be brought. \nThis webinar aims to equip employers will a solid understanding of a fair\, Acas compliant\, process\, ensuring that the risk of a claim is reduced. \nWith this new short period to evaluate an employee’s suitability carrying out probation and dismissal processes fairly will be critical to reduce risk.
URL:https://www.mulberryssolicitors.com/event/process-process-process-managing-dismissals-fairly/
LOCATION:Microsoft Teams
ATTACH;FMTTYPE=image/jpeg:https://www.mulberryssolicitors.com/wp-content/uploads/2025/09/advert_alone_1.jpg
ORGANIZER;CN="Mulberrys Solicitors":MAILTO:info@mulberryssolicitors.com
END:VEVENT
END:VCALENDAR